BEGIN:VCALENDAR
VERSION:2.0
PRODID:-//VECSA Experience - ECPv6.15.12.2//NONSGML v1.0//EN
CALSCALE:GREGORIAN
METHOD:PUBLISH
X-WR-CALNAME:VECSA Experience
X-ORIGINAL-URL:https://vecsaexperience.com
X-WR-CALDESC:Eventos para VECSA Experience
REFRESH-INTERVAL;VALUE=DURATION:PT1H
X-Robots-Tag:noindex
X-PUBLISHED-TTL:PT1H
BEGIN:VTIMEZONE
TZID:America/Mexico_City
BEGIN:STANDARD
TZOFFSETFROM:-0600
TZOFFSETTO:-0600
TZNAME:CST
DTSTART:20250101T000000
END:STANDARD
END:VTIMEZONE
BEGIN:VEVENT
DTSTART;VALUE=DATE:20260301
DTEND;VALUE=DATE:20260401
DTSTAMP:20260421T053100
CREATED:20260303T231722Z
LAST-MODIFIED:20260303T231722Z
UID:59478-1772323200-1775001599@vecsaexperience.com
SUMMARY:BMW Driving experience
DESCRIPTION:BMW presenta una experiencia exclusiva de conducción diseñada para descubrir el desempeño\, la innovación y el carácter que distinguen a la marca. \nVive una sesión personalizada de prueba de manejo\, donde podrás experimentar de primera mano la precisión\, tecnología y dinamismo que definen a cada modelo BMW.Además\, contarás con la asesoría especializada de BMW Financial Services\, para conocer las mejores opciones de financiamiento y tomar una decisión con absoluta certeza. \nComo parte de esta experiencia\, recibirás un exclusivo BMW Life Give Away\, pensado para hacer aún más especial tu visita. \nIngeniería\, precisión y visión de futuro reunidas en un mismo lugar. \n📞 Confirma tu asistencia: 771 795 4749
URL:https://vecsaexperience.com/event/bmw-driving-experience/
ATTACH;FMTTYPE=image/jpeg:https://vecsaexperience.com/wp-content/uploads/2026/03/BMW-Driving-experience.jpg
END:VEVENT
END:VCALENDAR