BEGIN:VCALENDAR
VERSION:2.0
PRODID:-//VECSA Experience - ECPv6.15.12.2//NONSGML v1.0//EN
CALSCALE:GREGORIAN
METHOD:PUBLISH
X-WR-CALNAME:VECSA Experience
X-ORIGINAL-URL:https://vecsaexperience.com
X-WR-CALDESC:Eventos para VECSA Experience
REFRESH-INTERVAL;VALUE=DURATION:PT1H
X-Robots-Tag:noindex
X-PUBLISHED-TTL:PT1H
BEGIN:VTIMEZONE
TZID:America/Mexico_City
BEGIN:STANDARD
TZOFFSETFROM:-0600
TZOFFSETTO:-0600
TZNAME:CST
DTSTART:20240101T000000
END:STANDARD
END:VTIMEZONE
BEGIN:VEVENT
DTSTART;VALUE=DATE:20250128
DTEND;VALUE=DATE:20250129
DTSTAMP:20260421T021737
CREATED:20250120T182226Z
LAST-MODIFIED:20250120T182214Z
UID:56594-1738022400-1738108799@vecsaexperience.com
SUMMARY:MINI Cooper Eléctrico
DESCRIPTION:¡Te invitamos a vivir una experiencia única! \nEl MINI Cooper Eléctrico llega para sorprenderte con un diseño moderno y lleno de personalidad\, que te hará vivir momentos increíbles al volante. Un ícono renovado para que sigas disfrutando del auténtico Go-Kart Feeling… ¡y con cero emisiones! \nVen y conoce el nuevo MINI Eléctrico\, este Martes 28 de enero a las 6:00 PM en el distribuidor MINI Vecsa Hidalgo\, vive la emoción de conducirlo y descubre todo lo que tiene para ofrecerte. Además\, podrás disfrutar de una deliciosa cena y participar en un taller exclusivo de elaboración de Velas Aromáticas. \nReserva tu lugar y acompáñanos en esta experiencia única. \nNo faltes\, ¡te esperamos! \nConoce #MINIEléctrico y únete a esta nueva era de movilidad.
URL:https://vecsaexperience.com/event/mini-cooper-electrico/
ATTACH;FMTTYPE=image/png:https://vecsaexperience.com/wp-content/uploads/2025/01/MINI-Electrico-.png
END:VEVENT
END:VCALENDAR