BEGIN:VCALENDAR
VERSION:2.0
PRODID:-//VECSA Experience - ECPv6.15.12.2//NONSGML v1.0//EN
CALSCALE:GREGORIAN
METHOD:PUBLISH
X-WR-CALNAME:VECSA Experience
X-ORIGINAL-URL:https://vecsaexperience.com
X-WR-CALDESC:Eventos para VECSA Experience
REFRESH-INTERVAL;VALUE=DURATION:PT1H
X-Robots-Tag:noindex
X-PUBLISHED-TTL:PT1H
BEGIN:VTIMEZONE
TZID:America/Mexico_City
BEGIN:STANDARD
TZOFFSETFROM:-0600
TZOFFSETTO:-0600
TZNAME:CST
DTSTART:20250101T000000
END:STANDARD
END:VTIMEZONE
BEGIN:VEVENT
DTSTART;TZID=America/Mexico_City:20260301T080000
DTEND;TZID=America/Mexico_City:20260331T170000
DTSTAMP:20260421T070117
CREATED:20260303T232646Z
LAST-MODIFIED:20260303T233120Z
UID:59485-1772352000-1774976400@vecsaexperience.com
SUMMARY:MINI Drive Experience
DESCRIPTION:Te invitamos a vivir una experiencia diseñada para descubrir el auténtico Go-Kart Feeling que distingue a MINI. \nConoce de cerca el diseño\, la tecnología y la personalidad que hacen de cada MINI una verdadera declaración de estilo en movimiento.Agenda tu prueba de manejo y siente cómo la ciudad se transforma desde el primer giro del volante. \nRecibe asesoría personalizada de MINI Financial Services para encontrar la opción que mejor se adapte a tu próximo paso. \nComo parte de esta experiencia exclusiva\, recibirás un MINI Life Give Away durante tu visita. \nPorque conducir un MINI no es solo llegar a tu destino.Es disfrutar cada curva en el camino.
URL:https://vecsaexperience.com/event/mini-drive-experience/
ATTACH;FMTTYPE=image/jpeg:https://vecsaexperience.com/wp-content/uploads/2026/03/MINI-DRIVE-EXPERIENCE.jpg
END:VEVENT
END:VCALENDAR