BEGIN:VCALENDAR
VERSION:2.0
PRODID:-//VECSA Experience - ECPv6.15.12.2//NONSGML v1.0//EN
CALSCALE:GREGORIAN
METHOD:PUBLISH
X-WR-CALNAME:VECSA Experience
X-ORIGINAL-URL:https://vecsaexperience.com
X-WR-CALDESC:Eventos para VECSA Experience
REFRESH-INTERVAL;VALUE=DURATION:PT1H
X-Robots-Tag:noindex
X-PUBLISHED-TTL:PT1H
BEGIN:VTIMEZONE
TZID:America/Mexico_City
BEGIN:STANDARD
TZOFFSETFROM:-0600
TZOFFSETTO:-0600
TZNAME:CST
DTSTART:20240101T000000
END:STANDARD
END:VTIMEZONE
BEGIN:VEVENT
DTSTART;VALUE=DATE:20251123
DTEND;VALUE=DATE:20251124
DTSTAMP:20260421T121118
CREATED:20251121T173613Z
LAST-MODIFIED:20251121T173613Z
UID:58974-1763856000-1763942399@vecsaexperience.com
SUMMARY:MORE MILES: TUXPAN
DESCRIPTION:Cada rodada tiene su magia\, y esta será especial.Una experiencia que combina la carretera\, la amistad y la pasión por rodar. \nBMW Motorrad VECSA Hidalgo te invita a ser parte de la Rodada More Miles: Tuxpan\, una travesía diseñada para disfrutar del camino en un ambiente relajado y lleno de camaradería. \nEl sábado 23 de noviembre\, nos reuniremos a las 7:00 AM en BMW Motorrad VECSA Hidalgo para iniciar esta ruta donde cada kilómetro se convierte en pura emoción. \nVive la experiencia de Tuxpan en compañía de tu BMW Motorrad…y haz de esta rodada un recuerdo inolvidable. \nConfirma tu participación al 771 795 4749y prepárate para rodar con nosotros.
URL:https://vecsaexperience.com/event/more-miles-tuxpan-2/
CATEGORIES:Rodada
ATTACH;FMTTYPE=image/jpeg:https://vecsaexperience.com/wp-content/uploads/2025/11/MORE-MILES-TUXPAN.jpg
END:VEVENT
END:VCALENDAR