BEGIN:VCALENDAR
VERSION:2.0
PRODID:-//VECSA Experience - ECPv6.15.12.2//NONSGML v1.0//EN
CALSCALE:GREGORIAN
METHOD:PUBLISH
X-WR-CALNAME:VECSA Experience
X-ORIGINAL-URL:https://vecsaexperience.com
X-WR-CALDESC:Eventos para VECSA Experience
REFRESH-INTERVAL;VALUE=DURATION:PT1H
X-Robots-Tag:noindex
X-PUBLISHED-TTL:PT1H
BEGIN:VTIMEZONE
TZID:America/Mexico_City
BEGIN:STANDARD
TZOFFSETFROM:-0600
TZOFFSETTO:-0600
TZNAME:CST
DTSTART:20240101T000000
END:STANDARD
END:VTIMEZONE
BEGIN:VEVENT
DTSTART;VALUE=DATE:20251206
DTEND;VALUE=DATE:20251207
DTSTAMP:20260421T122318
CREATED:20251129T224317Z
LAST-MODIFIED:20251129T224339Z
UID:59029-1764979200-1765065599@vecsaexperience.com
SUMMARY:MORE MILES: VALLE DE BRAVO
DESCRIPTION:Cada rodada tiene su magia\, pero las de amanecer tienen un espíritu único.Una experiencia inolvidable que transforma cada kilómetro en pura emoción. \nBMW Motorrad VECSA Hidalgo te invita a ser parte de la Rodada More Miles: Valle de Bravo\, con destino a la CDMX\, diseñada para disfrutar el trayecto entre montañas\, paisajes icónicos y un ambiente lleno de camaradería. \nEl sábado 06 de diciembre\, nos reuniremos a las 6:30 AM en BMW Motorrad VECSA Hidalgo para emprender esta travesía\, donde cada curva será una celebración de la pasión por rodar juntos. \nVive la experiencia de Valle de Bravo sobre dos ruedas…y haz de esta rodada un recuerdo inolvidable. \nNivel de dificultad: Avanzada \nConfirma tu participación al 771 795 4749y prepárate para rodar con nosotros. \n\n\nPor seguridad\, fechas y horarios sujetos a un buen clima. Confirma con tu asesor Motorrad. \n\n\nUso obligatorio de equipo de seguridad. \n\n\nGastos de hospedaje\, alimentación y combustible corren por cuenta de los participantes.
URL:https://vecsaexperience.com/event/more-miles-valle-de-bravo/
ATTACH;FMTTYPE=image/jpeg:https://vecsaexperience.com/wp-content/uploads/2025/11/Valle-de-Bravo.jpg
END:VEVENT
END:VCALENDAR