BEGIN:VCALENDAR
VERSION:2.0
PRODID:-//VECSA Experience - ECPv6.15.12.2//NONSGML v1.0//EN
CALSCALE:GREGORIAN
METHOD:PUBLISH
X-WR-CALNAME:VECSA Experience
X-ORIGINAL-URL:https://vecsaexperience.com
X-WR-CALDESC:Eventos para VECSA Experience
REFRESH-INTERVAL;VALUE=DURATION:PT1H
X-Robots-Tag:noindex
X-PUBLISHED-TTL:PT1H
BEGIN:VTIMEZONE
TZID:America/Mexico_City
BEGIN:STANDARD
TZOFFSETFROM:-0600
TZOFFSETTO:-0600
TZNAME:CST
DTSTART:20240101T000000
END:STANDARD
END:VTIMEZONE
BEGIN:VEVENT
DTSTART;TZID=America/Mexico_City:20251010T183000
DTEND;TZID=America/Mexico_City:20251010T230000
DTSTAMP:20260421T163539
CREATED:20251007T233559Z
LAST-MODIFIED:20251007T233559Z
UID:58808-1760121000-1760137200@vecsaexperience.com
SUMMARY:RODADA CUMPLEAÑERA
DESCRIPTION:Las rodadas al atardecer tienen un ritmo propio: luz cálida\, aire fresco de montaña y esa emoción de ir en grupo.Cada curva se disfruta más cuando la ruta nos lleva a celebrar juntos. \nBMW Motorrad VECSA Hidalgo te invita a la Rodada Cumpleañera con destino a Louisiana Roadhouse\, en Real del Monte; un recorrido perfecto para disfrutar las calles empedradas y el ambiente acogedor del pueblo mágico. \nNos vemos el viernes 10 de octubre\, a las 6:30 PM\, saliendo desde BMW Motorrad VECSA Hidalgo.Prepárate para una travesía donde cada kilómetro se siente como un brindis sobre dos ruedas. \nConfirma tu asistencia al 771 795 4749 y súmate a esta celebración sobre tu BMW. \n\n\n\nPor seguridad\, fechas y horarios sujetos a un buen clima. Confirma con tu asesor Motorrad. \n\n\nUso obligatorio de equipo de seguridad. \n\n\nGastos de hospedaje\, alimentación y combustible corren por cuenta de los participantes.
URL:https://vecsaexperience.com/event/rodada-cumpleanera/
ATTACH;FMTTYPE=image/jpeg:https://vecsaexperience.com/wp-content/uploads/2025/10/Rodada-Cumpleanera.jpg
END:VEVENT
END:VCALENDAR