BEGIN:VCALENDAR
VERSION:2.0
PRODID:-//VECSA Experience - ECPv6.15.12.2//NONSGML v1.0//EN
CALSCALE:GREGORIAN
METHOD:PUBLISH
X-WR-CALNAME:VECSA Experience
X-ORIGINAL-URL:https://vecsaexperience.com
X-WR-CALDESC:Eventos para VECSA Experience
REFRESH-INTERVAL;VALUE=DURATION:PT1H
X-Robots-Tag:noindex
X-PUBLISHED-TTL:PT1H
BEGIN:VTIMEZONE
TZID:America/Mexico_City
BEGIN:STANDARD
TZOFFSETFROM:-0600
TZOFFSETTO:-0600
TZNAME:CST
DTSTART:20240101T000000
END:STANDARD
END:VTIMEZONE
BEGIN:VEVENT
DTSTART;TZID=America/Mexico_City:20251009T190000
DTEND;TZID=America/Mexico_City:20251009T190000
DTSTAMP:20260421T193315
CREATED:20251007T232715Z
LAST-MODIFIED:20251007T232807Z
UID:58804-1760036400-1760036400@vecsaexperience.com
SUMMARY:RODADA NOCTURNA - DE BRAZZA\, CD SAHAGÚN HIDALGO.
DESCRIPTION:Cada rodada tiene su encanto\, pero las nocturnas tienen una energía especial.Una experiencia que transforma la carretera en pura emoción y buena compañía. \nBMW Motorrad VECSA Hidalgo te invita a vivir la Rodada Nocturna con destino a De Brazza\, en Cd. Sahagún\, Hidalgo.Un recorrido pensado para disfrutar la noche sobre dos ruedas\, entre amigos y luces que marcan el camino. \nEl jueves 9 de octubre\, saldremos a las 7:00 PM desde BMW Motorrad VECSA Hidalgo\, para disfrutar una travesía donde cada kilómetro se convierte en una celebración de nuestra pasión por rodar. \nSiente la libertad de la noche\, el rugir de tu BMW y la emoción de compartir el camino. \nConfirma tu asistencia al 771 795 4749 y acompáñanos en esta nueva aventura. \n\n\nPor seguridad\, fechas y horarios sujetos a un buen clima. Confirma con tu asesor Motorrad. \n\n\nUso obligatorio de equipo de seguridad. \n\n\nGastos de hospedaje\, alimentación y combustible corren por cuenta de los participantes.
URL:https://vecsaexperience.com/event/rodada-nocturna-de-brazza-cd-sahagun-hidalgo/
CATEGORIES:Rodada
ATTACH;FMTTYPE=image/jpeg:https://vecsaexperience.com/wp-content/uploads/2025/10/Rodada-nocturna-brazza.jpg
END:VEVENT
END:VCALENDAR