BEGIN:VCALENDAR
VERSION:2.0
PRODID:-//VECSA Experience - ECPv6.15.12.2//NONSGML v1.0//EN
CALSCALE:GREGORIAN
METHOD:PUBLISH
X-WR-CALNAME:VECSA Experience
X-ORIGINAL-URL:https://vecsaexperience.com
X-WR-CALDESC:Eventos para VECSA Experience
REFRESH-INTERVAL;VALUE=DURATION:PT1H
X-Robots-Tag:noindex
X-PUBLISHED-TTL:PT1H
BEGIN:VTIMEZONE
TZID:America/Mexico_City
BEGIN:STANDARD
TZOFFSETFROM:-0600
TZOFFSETTO:-0600
TZNAME:CST
DTSTART:20240101T000000
END:STANDARD
END:VTIMEZONE
BEGIN:VEVENT
DTSTART;VALUE=DATE:20251221
DTEND;VALUE=DATE:20251222
DTSTAMP:20260421T135359
CREATED:20251129T225224Z
LAST-MODIFIED:20251129T225224Z
UID:59036-1766275200-1766361599@vecsaexperience.com
SUMMARY:TEQUISQUIAPAN RIDE OUT
DESCRIPTION:El amanecer siempre guarda un encanto especial… y vivirlo sobre una BMW lo transforma en un pequeño ritual de libertad.La carretera\, el aire frío que despierta los sentidos y el pulso del grupo rodando al unísono crean el escenario perfecto para cerrar el año con energía y buenos momentos. \nBMW Motorrad VECSA Hidalgo te invita a formar parte de la Rodada More Miles: Villa de Santa Claus\, con destino a Tequisquiapan\, Querétaro.Una ruta pensada para quienes disfrutan los paisajes del Bajío\, el espíritu de aventura y esa camaradería que solo se encuentra entre riders que aman levantarse antes que el sol. \n📍 Domingo 21 de diciembre⏰ 6:30 AM📌 Punto de encuentro: BMW Motorrad VECSA Hidalgo \nSerá un recorrido de espíritu avanzado\, ideal para quienes buscan kilómetros\, desafíos y la emoción de una ruta larga que se disfruta desde los primeros destellos del día. \nDeja que el amanecer te guíe\, comparte la pasión y siente cómo el camino se abre paso rumbo a Tequisquiapan. \nConfirma tu asistencia al 771 795 4749Prepárate para rodar con nosotros. \n\n\n\nPor seguridad\, fechas y horarios sujetos a un buen clima. Confirma con tu asesor Motorrad. \n\n\nUso obligatorio de equipo de seguridad. \n\n\nGastos de hospedaje\, alimentación y combustible corren por cuenta de los participantes.
URL:https://vecsaexperience.com/event/tequisquiapan-ride-out/
ATTACH;FMTTYPE=image/jpeg:https://vecsaexperience.com/wp-content/uploads/2025/11/Tequisquiapan.jpg
END:VEVENT
END:VCALENDAR