BEGIN:VCALENDAR
VERSION:2.0
PRODID:-//VECSA Experience - ECPv6.15.12.2//NONSGML v1.0//EN
CALSCALE:GREGORIAN
METHOD:PUBLISH
X-WR-CALNAME:VECSA Experience
X-ORIGINAL-URL:https://vecsaexperience.com
X-WR-CALDESC:Eventos para VECSA Experience
REFRESH-INTERVAL;VALUE=DURATION:PT1H
X-Robots-Tag:noindex
X-PUBLISHED-TTL:PT1H
BEGIN:VTIMEZONE
TZID:America/Mexico_City
BEGIN:STANDARD
TZOFFSETFROM:-0600
TZOFFSETTO:-0600
TZNAME:CST
DTSTART:20250101T000000
END:STANDARD
END:VTIMEZONE
BEGIN:VEVENT
DTSTART;VALUE=DATE:20260207
DTEND;VALUE=DATE:20260209
DTSTAMP:20260421T100852
CREATED:20260122T230636Z
LAST-MODIFIED:20260130T221010Z
UID:59328-1770422400-1770595199@vecsaexperience.com
SUMMARY:SIERRAS POBLANAS 2026
DESCRIPTION:La tierra llama. La experiencia responde. \nBMW Motorrad VECSA Hidalgo se suma al Campeonato de Enduro Sierras Poblanas 2026 con una experiencia creada para riders que buscan técnica\, control y auténtico dominio del off-road. \nLa Enduro Experience BMW se vivirá este 7 y 8 de febrero\, en un recorrido exigente de nivel avanzado\, rodeado de los paisajes naturales de Huasca de Ocampo\, Hidalgo. \nSerá un fin de semana de polvo\, montaña y adrenalina pura\, donde cada tramo pondrá a prueba tu habilidad\, resistencia y pasión por la conducción extrema. \n📍 Punto de reunión: BMW Motorrad VECSA Hidalgo⚙️ Dificultad: Avanzada🏁 Destino: Huasca de Ocampo\, Hidalgo \nAsegura tu lugar y prepárate para rodar con el equipo completo y tu motocicleta en óptimas condiciones. \nConfirma tu asistencia al 771 795 4749 \nNo es solo una ruta.Es dominio\, resistencia y pasión por el off-road. \n\n\nPor seguridad\, fechas y horarios sujetos a un buen clima. Confirma con tu asesor Motorrad. \n\n\nUso obligatorio de equipo de seguridad. \n\n\nGastos de hospedaje\, alimentación y combustible corren por cuenta de los participantes. \n\n\n \n 
URL:https://vecsaexperience.com/event/sierras-poblanas-2026/
ATTACH;FMTTYPE=image/jpeg:https://vecsaexperience.com/wp-content/uploads/2026/01/Sierras-Poblanasjpg.jpg
END:VEVENT
END:VCALENDAR