BEGIN:VCALENDAR
VERSION:2.0
PRODID:-//VECSA Experience - ECPv6.15.12.2//NONSGML v1.0//EN
CALSCALE:GREGORIAN
METHOD:PUBLISH
X-WR-CALNAME:VECSA Experience
X-ORIGINAL-URL:https://vecsaexperience.com
X-WR-CALDESC:Eventos para VECSA Experience
REFRESH-INTERVAL;VALUE=DURATION:PT1H
X-Robots-Tag:noindex
X-PUBLISHED-TTL:PT1H
BEGIN:VTIMEZONE
TZID:America/Mexico_City
BEGIN:STANDARD
TZOFFSETFROM:-0600
TZOFFSETTO:-0600
TZNAME:CST
DTSTART:20250101T000000
END:STANDARD
END:VTIMEZONE
BEGIN:VEVENT
DTSTART;VALUE=DATE:20260125
DTEND;VALUE=DATE:20260126
DTSTAMP:20260421T162027
CREATED:20260119T193542Z
LAST-MODIFIED:20260119T193648Z
UID:59324-1769299200-1769385599@vecsaexperience.com
SUMMARY:RODADA AL AMANECER - TEPOZTLÁN
DESCRIPTION:El domingo comienza en la montaña.BMW Motorrad VECSA Hidalgo te invita a rodar rumbo a Tepoztlán en una salida temprana diseñada para dejar que el camino marque el ritmo. \nUna ruta pensada para disfrutar la carretera\, compartir el trayecto y arrancar el día con la mejor compañía.Entre curvas\, paisaje y el aire fresco de la sierra\, esta rodada es perfecta para quienes buscan transformar la mañana en una experiencia auténtica sobre dos ruedas. \n📅 Domingo 25 de enero🕢 Hora: 7:30 AM📍 Punto de reunión: BMW Motorrad VECSA Hidalgo🛣️ Ruta: Tepoztlán⚙️ Dificultad: Avanzada \nConfirma tu asistencia y acompáñanos en esta ruta al amanecer.Prepárate para rodar.
URL:https://vecsaexperience.com/event/rodada-al-amanecer-tepoztlan/
ATTACH;FMTTYPE=image/jpeg:https://vecsaexperience.com/wp-content/uploads/2026/01/TEPOZTLAN-RODADA-AL-AMANECER.jpg
END:VEVENT
BEGIN:VEVENT
DTSTART;VALUE=DATE:20260207
DTEND;VALUE=DATE:20260209
DTSTAMP:20260421T162027
CREATED:20260122T230636Z
LAST-MODIFIED:20260130T221010Z
UID:59328-1770422400-1770595199@vecsaexperience.com
SUMMARY:SIERRAS POBLANAS 2026
DESCRIPTION:La tierra llama. La experiencia responde. \nBMW Motorrad VECSA Hidalgo se suma al Campeonato de Enduro Sierras Poblanas 2026 con una experiencia creada para riders que buscan técnica\, control y auténtico dominio del off-road. \nLa Enduro Experience BMW se vivirá este 7 y 8 de febrero\, en un recorrido exigente de nivel avanzado\, rodeado de los paisajes naturales de Huasca de Ocampo\, Hidalgo. \nSerá un fin de semana de polvo\, montaña y adrenalina pura\, donde cada tramo pondrá a prueba tu habilidad\, resistencia y pasión por la conducción extrema. \n📍 Punto de reunión: BMW Motorrad VECSA Hidalgo⚙️ Dificultad: Avanzada🏁 Destino: Huasca de Ocampo\, Hidalgo \nAsegura tu lugar y prepárate para rodar con el equipo completo y tu motocicleta en óptimas condiciones. \nConfirma tu asistencia al 771 795 4749 \nNo es solo una ruta.Es dominio\, resistencia y pasión por el off-road. \n\n\nPor seguridad\, fechas y horarios sujetos a un buen clima. Confirma con tu asesor Motorrad. \n\n\nUso obligatorio de equipo de seguridad. \n\n\nGastos de hospedaje\, alimentación y combustible corren por cuenta de los participantes. \n\n\n \n 
URL:https://vecsaexperience.com/event/sierras-poblanas-2026/
ATTACH;FMTTYPE=image/jpeg:https://vecsaexperience.com/wp-content/uploads/2026/01/Sierras-Poblanasjpg.jpg
END:VEVENT
BEGIN:VEVENT
DTSTART;TZID=America/Mexico_City:20260214T083000
DTEND;TZID=America/Mexico_City:20260214T140000
DTSTAMP:20260421T162027
CREATED:20260122T231409Z
LAST-MODIFIED:20260130T221441Z
UID:59331-1771057800-1771077600@vecsaexperience.com
SUMMARY:CLÍNICA OFF-ROAD
DESCRIPTION:Hay experiencias que se disfrutan más cuando se baja el ritmo y se afina la técnica.Esta Clínica Off-Road está diseñada para mejorar el control\, la postura y la confianza sobre terrenos de tierra\, en un entorno guiado y seguro. \nBMW Motorrad VECSA Hidalgo te invita a participar en una jornada dedicada al aprendizaje y perfeccionamiento del manejo off-road\, ideal para riders que buscan desarrollar habilidades clave fuera del asfalto. \nDificultad: Media \nLa cita es el sábado 14 de febrero\, a las 8:30 AM\, con punto de reunión en BMW Motorrad VECSA Hidalgo\, donde iniciaremos una sesión práctica de nivel intermedio a avanzado\, enfocada en técnica\, equilibrio y dominio de la motocicleta. \nUn espacio para entrenar\, aprender y conectar con el verdadero espíritu off-road de BMW Motorrad. \nConfirma tu participación y prepárate para llevar tu conducción al siguiente nivel. \n\n\nPor seguridad\, fechas y horarios sujetos a un buen clima. Confirma con tu asesor Motorrad. \n\n\nUso obligatorio de equipo de seguridad. \n\n\nGastos de hospedaje\, alimentación y combustible corren por cuenta de los participantes \n\n\n \n 
URL:https://vecsaexperience.com/event/clinica-off-road/
ATTACH;FMTTYPE=image/jpeg:https://vecsaexperience.com/wp-content/uploads/2026/01/CLINICA-OFF-ROAD.jpg
END:VEVENT
BEGIN:VEVENT
DTSTART;VALUE=DATE:20260219
DTEND;VALUE=DATE:20260220
DTSTAMP:20260421T162027
CREATED:20260122T232038Z
LAST-MODIFIED:20260130T221714Z
UID:59335-1771459200-1771545599@vecsaexperience.com
SUMMARY:RODADA LUNA NUEVA HUASCA
DESCRIPTION:Hay recorridos que se viven diferente cuando cae la noche y el camino se ilumina solo con faros y luna.Una salida pensada para rodar con calma\, disfrutar el silencio de la carretera y dejar que la noche marque el ritmo. \nBMW Motorrad VECSA Hidalgo te invita a ser parte de la Rodada Luna Nueva Huasca\, una experiencia nocturna creada para rodar en grupo\, conectar con la ruta y disfrutar cada kilómetro bajo el cielo abierto. \nLa cita es el domingo 19 de febrero\, a las 6:30 PM\, con punto de reunión en BMW Motorrad VECSA Hidalgo\, desde donde iniciaremos una ruta de nivel avanzado rumbo a Huasca de Ocampo\, Hidalgo. \n⚙️ Dificultad: Avanzada \nUna noche para compartir camino\, sumar experiencias y vivir el espíritu BMW Motorrad de una forma distinta. \n\n\nPor seguridad\, fechas y horarios sujetos a un buen clima. Confirma con tu asesor Motorrad. \n\n\nUso obligatorio de equipo de seguridad. \n\n\nGastos de hospedaje\, alimentación y combustible corren por cuenta de los participantes.
URL:https://vecsaexperience.com/event/rodada-luna-nueva-huasca/
ATTACH;FMTTYPE=image/jpeg:https://vecsaexperience.com/wp-content/uploads/2026/01/Rodada-Luna-Nueva-Huasca.jpg
END:VEVENT
BEGIN:VEVENT
DTSTART;VALUE=DATE:20260221
DTEND;VALUE=DATE:20260222
DTSTAMP:20260421T162027
CREATED:20260129T221933Z
LAST-MODIFIED:20260130T222016Z
UID:59368-1771632000-1771718399@vecsaexperience.com
SUMMARY:Rodada Pinal de Amoles\,  Querétaro.
DESCRIPTION:Hay rutas que se disfrutan más cuando la carretera se abre paso entre la sierra y cada curva invita a seguir rodando.Una rodada pensada para disfrutar el camino\, mantener un ritmo constante y vivir la conexión que solo se da cuando se rueda en grupo. \nBMW Motorrad VECSA Hidalgo te invita a acompañarnos en la Rodada Pinal de Amoles\, Querétaro\, una experiencia para recorrer carreteras de montaña\, rodar con calma y apreciar cada tramo del paisaje. \nLa cita es el  21 de febrero\, a las 8:30 a.m.\, con punto de encuentro en BMW Motorrad VECSA Hidalgo\, desde donde iniciaremos una ruta de nivel avanzado rumbo a Pinal de Amoles\, Querétaro. \n⚙️ Dificultad: Avanzada \nUn día para sumar kilómetros\, compartir la ruta y vivir el espíritu BMW Motorrad en cada curva.Nos vemos en el camino. 🏍️⛰️
URL:https://vecsaexperience.com/event/rodada-pinal-de-amoles-queretaro/
CATEGORIES:Rodada
ATTACH;FMTTYPE=image/jpeg:https://vecsaexperience.com/wp-content/uploads/2026/01/Queretaro.jpg
END:VEVENT
BEGIN:VEVENT
DTSTART;VALUE=DATE:20260301
DTEND;VALUE=DATE:20260401
DTSTAMP:20260421T162027
CREATED:20260303T231722Z
LAST-MODIFIED:20260303T231722Z
UID:59478-1772323200-1775001599@vecsaexperience.com
SUMMARY:BMW Driving experience
DESCRIPTION:BMW presenta una experiencia exclusiva de conducción diseñada para descubrir el desempeño\, la innovación y el carácter que distinguen a la marca. \nVive una sesión personalizada de prueba de manejo\, donde podrás experimentar de primera mano la precisión\, tecnología y dinamismo que definen a cada modelo BMW.Además\, contarás con la asesoría especializada de BMW Financial Services\, para conocer las mejores opciones de financiamiento y tomar una decisión con absoluta certeza. \nComo parte de esta experiencia\, recibirás un exclusivo BMW Life Give Away\, pensado para hacer aún más especial tu visita. \nIngeniería\, precisión y visión de futuro reunidas en un mismo lugar. \n📞 Confirma tu asistencia: 771 795 4749
URL:https://vecsaexperience.com/event/bmw-driving-experience/
ATTACH;FMTTYPE=image/jpeg:https://vecsaexperience.com/wp-content/uploads/2026/03/BMW-Driving-experience.jpg
END:VEVENT
BEGIN:VEVENT
DTSTART;VALUE=DATE:20260301
DTEND;VALUE=DATE:20260401
DTSTAMP:20260421T162027
CREATED:20260303T231934Z
LAST-MODIFIED:20260303T231934Z
UID:59481-1772323200-1775001599@vecsaexperience.com
SUMMARY:BMW MOTORRAD  Riding Experience
DESCRIPTION:Te invitamos a vivir una experiencia pensada para quienes saben que rodar no es solo moverse\, es decidir. \nDescubre de cerca el carácter\, la ingeniería y la tecnología que distinguen a BMW Motorrad en una sesión personalizada de prueba de manejo.Recibe asesoría especializada y explora las opciones de financiamiento diseñadas para acompañar tu próximo viaje\, con la certeza de elegir la motocicleta que se adapta a tu estilo de vida. \nComo parte de esta experiencia\, recibirás un exclusivo BMW Motorrad Life Give Away. \nPorque algunas decisiones no se explican.Se viven en ruta. \n📞 Confirma tu asistencia: 771 795 4749
URL:https://vecsaexperience.com/event/bmw-motorrad-riding-experience/
ATTACH;FMTTYPE=image/jpeg:https://vecsaexperience.com/wp-content/uploads/2026/03/Riding-Experience.jpg
END:VEVENT
BEGIN:VEVENT
DTSTART;TZID=America/Mexico_City:20260301T080000
DTEND;TZID=America/Mexico_City:20260331T170000
DTSTAMP:20260421T162027
CREATED:20260303T232646Z
LAST-MODIFIED:20260303T233120Z
UID:59485-1772352000-1774976400@vecsaexperience.com
SUMMARY:MINI Drive Experience
DESCRIPTION:Te invitamos a vivir una experiencia diseñada para descubrir el auténtico Go-Kart Feeling que distingue a MINI. \nConoce de cerca el diseño\, la tecnología y la personalidad que hacen de cada MINI una verdadera declaración de estilo en movimiento.Agenda tu prueba de manejo y siente cómo la ciudad se transforma desde el primer giro del volante. \nRecibe asesoría personalizada de MINI Financial Services para encontrar la opción que mejor se adapte a tu próximo paso. \nComo parte de esta experiencia exclusiva\, recibirás un MINI Life Give Away durante tu visita. \nPorque conducir un MINI no es solo llegar a tu destino.Es disfrutar cada curva en el camino.
URL:https://vecsaexperience.com/event/mini-drive-experience/
ATTACH;FMTTYPE=image/jpeg:https://vecsaexperience.com/wp-content/uploads/2026/03/MINI-DRIVE-EXPERIENCE.jpg
END:VEVENT
BEGIN:VEVENT
DTSTART;VALUE=DATE:20260305
DTEND;VALUE=DATE:20260306
DTSTAMP:20260421T162027
CREATED:20260305T180533Z
LAST-MODIFIED:20260305T180617Z
UID:59452-1772668800-1772755199@vecsaexperience.com
SUMMARY:NIGHT RIDE | RUTA & BBQ
DESCRIPTION:Hay rodadas que no se tratan de ir lejos\, sino de rodar juntos y cerrar la noche como se debe. \nEsta Night Ride está pensada para disfrutar una ruta nocturna tranquila y terminar compartiendo buena charla y BBQ en Asados Don Papi\, Tulancingo\, Hidalgo. \nBMW Motorrad VECSA Hidalgo te invita a sumarte a esta experiencia donde la carretera\, la camaradería y el sabor se unen en una misma noche. \n📅 Jueves 5 de marzo🕡 Hora: 6:30 PM📍 Punto de reunión: BMW Motorrad VECSA Hidalgo⚙️ Dificultad: Media \nUna noche para sumar kilómetros\, compartir la mesa y vivir el espíritu BMW Motorrad como más nos gusta: rodando juntos. \nInformación al 771 795 4749 \nNos vemos en la ruta. 🏍️🔥 \n\n\nPor seguridad\, fechas y horarios sujetos a un buen clima. Confirma con tu asesor Motorrad. \n\n\nUso obligatorio de equipo de seguridad. \n\n\nGastos de hospedaje\, alimentación y combustible corren por cuenta de los participantes
URL:https://vecsaexperience.com/event/night-ride-ruta-bbq/
CATEGORIES:Rodada
ATTACH;FMTTYPE=image/jpeg:https://vecsaexperience.com/wp-content/uploads/2026/02/ASADOS-DON-PAPI.jpg
END:VEVENT
BEGIN:VEVENT
DTSTART;VALUE=DATE:20260305
DTEND;VALUE=DATE:20260321
DTSTAMP:20260421T162027
CREATED:20260305T175142Z
LAST-MODIFIED:20260305T181345Z
UID:59505-1772668800-1774051199@vecsaexperience.com
SUMMARY:VENTA ESPECIAL DE PRIMAVERA BMW
DESCRIPTION:La primavera es el momento perfecto para comenzar un nuevo camino. \nDel 05 al 20 de marzo\, te invitamos a descubrir la Venta Especial de Primavera BMW\, una temporada pensada para que estrenar sea más fácil gracias a condiciones exclusivas y beneficios especiales. \nDurante estos días podrás aprovechar bonos de cashback\, meses sin intereses y opciones de financiamiento preferenciales\, diseñadas para que elijas tu próximo BMW con mayor tranquilidad. \nAdemás\, con el respaldo de BMW Financial Services\, encontrarás soluciones financieras que se adaptan a tu estilo de vida\, junto con 3 años de servicio incluido\, para que disfrutes tu vehículo con la confianza y respaldo de la marca. \nEsta temporada es una oportunidad para descubrir el placer de conducir\, la precisión de la ingeniería BMW y tomar una decisión que marcará el inicio de nuevas experiencias. \nTu próximo BMW puede comenzar aquí.Te esperamos en BMW VECSA Hidalgo\, donde nuestro equipo estará listo para acompañarte en cada paso hacia tu próximo BMW.
URL:https://vecsaexperience.com/event/venta-especial-de-primavera-bmw/
ATTACH;FMTTYPE=image/jpeg:https://vecsaexperience.com/wp-content/uploads/2026/03/Venta-Primavera-BMW.jpg
END:VEVENT
BEGIN:VEVENT
DTSTART;VALUE=DATE:20260305
DTEND;VALUE=DATE:20260321
DTSTAMP:20260421T162027
CREATED:20260305T175443Z
LAST-MODIFIED:20260305T181524Z
UID:59510-1772668800-1774051199@vecsaexperience.com
SUMMARY:VENTA ESPECIAL DE PRIMAVERA MINI
DESCRIPTION:Hey MINI!La primavera es el momento perfecto para cambiar el ritmo. \nDel 05 al 20 de marzo\, vive la Venta Especial de Primavera MINI y descubre bonos de cashback exclusivos\, meses sin intereses y condiciones especiales de financiamiento. \nCon el respaldo de MINI Financial Services\, esta temporada es la oportunidad perfecta para encontrar el MINI que mejor va contigo y comenzar una nueva etapa con más estilo y personalidad. \nToda la gama MINI participa en esta temporada especial\, para que elijas el modelo que encaje con tu forma de moverte por la ciudad. \nPorque cuando llega la primavera\, también es momento de cambiar la forma de conducir. \nEsta primavera\, la ciudad se vive diferente al volante de un MINI.Te esperamos en MINI VECSA Hidalgo.
URL:https://vecsaexperience.com/event/venta-especial-de-primavera-mini/
ATTACH;FMTTYPE=image/jpeg:https://vecsaexperience.com/wp-content/uploads/2026/03/Venta-Primavera-MINI.jpg
END:VEVENT
BEGIN:VEVENT
DTSTART;VALUE=DATE:20260305
DTEND;VALUE=DATE:20260321
DTSTAMP:20260421T162027
CREATED:20260305T175957Z
LAST-MODIFIED:20260305T181212Z
UID:59512-1772668800-1774051199@vecsaexperience.com
SUMMARY:VENTA ESPECIAL DE PRIMAVERA BMW MOTORRAD
DESCRIPTION:La temporada cambia. También el momento de decidir. \nDel 05 al 20 de marzo\, vive la Venta Especial de Primavera BMW Motorrad con condiciones exclusivas disponibles en BMW Motorrad VECSA Hidalgo. \nDurante esta temporada especial podrás encontrar bonos de cashback\, meses sin intereses y beneficios de financiamiento con el respaldo de BMW Financial Services\, pensados para que elijas la motocicleta que marcará tu siguiente ruta. \nToda la gama BMW Motorrad participa\, desde modelos pensados para la ciudad hasta motocicletas diseñadas para la aventura y el touring. \nEs el momento de avanzar con potencia\, precisión y convicción.Tu próxima ruta puede comenzar aquí.
URL:https://vecsaexperience.com/event/venta-especial-de-primavera-bmw-motorrad/
ATTACH;FMTTYPE=image/jpeg:https://vecsaexperience.com/wp-content/uploads/2026/03/Venta-Primaver-MOTORRAD.jpg
END:VEVENT
BEGIN:VEVENT
DTSTART;VALUE=DATE:20260308
DTEND;VALUE=DATE:20260309
DTSTAMP:20260421T162027
CREATED:20260306T170028Z
LAST-MODIFIED:20260306T170046Z
UID:59459-1772928000-1773014399@vecsaexperience.com
SUMMARY:CLÍNICA ON ROAD.
DESCRIPTION:Hay experiencias que se disfrutan más cuando aprendes a controlar mejor tu moto y a rodar con mayor confianza.Esta Clínica On Road está diseñada para practicar técnicas de conducción\, perfeccionar maniobras en asfalto y aplicar lo aprendido en un entorno controlado. \nBMW Motorrad VECSA Hidalgo te invita a participar en esta jornada enfocada en el control\, la postura\, el equilibrio y el manejo seguro de la motocicleta\, guiada por instructores especializados. \n📅 Domingo 8 de marzo🕣 Hora: 8:30 AM📍 Punto de reunión: BMW Motorrad VECSA Hidalgo⚙️ Dificultad: Media \nUna experiencia para aprender\, practicar y disfrutar el camino con mayor seguridad y confianza. \n📞 Información: 771 795 4749 \n\n\nPor seguridad\, fechas y horarios están sujetos a condiciones climáticas favorables. Confirma con tu asesor Motorrad. \n\n\nUso obligatorio de equipo completo de seguridad. \n\n\n 
URL:https://vecsaexperience.com/event/clinica-on-road/
CATEGORIES:Rodada
ATTACH;FMTTYPE=image/jpeg:https://vecsaexperience.com/wp-content/uploads/2026/02/CLINICA-ON-ROAD.jpg
END:VEVENT
BEGIN:VEVENT
DTSTART;VALUE=DATE:20260315
DTEND;VALUE=DATE:20260316
DTSTAMP:20260421T162027
CREATED:20260311T173136Z
LAST-MODIFIED:20260311T174514Z
UID:59519-1773532800-1773619199@vecsaexperience.com
SUMMARY:RODADA HOTEL AGUA MORADA
DESCRIPTION:Cuando el bosque despierta\, la sierra marca el ritmo y el camino se disfruta desde el primer kilómetro. \nBMW Motorrad VECSA Hidalgo te invita a participar en la Rodada Hotel Agua Morada\, una experiencia pensada para quienes disfrutan las curvas\, el aire fresco de montaña y la camaradería que solo se vive rodando en grupo. \nEsta ruta de dificultad media nos llevará por carreteras escénicas rumbo a Hotel Agua Morada\, un destino rodeado de naturaleza ideal para hacer una pausa\, convivir y disfrutar del entorno. \nLa salida será el domingo 15 de marzo\, a las 9:00 a.m.\, con punto de reunión en BMW Motorrad VECSA Hidalgo\, desde donde iniciaremos esta travesía rumbo a Acaxochitlán. \nUna mañana para sumar kilómetros\, compartir el camino y vivir el espíritu BMW Motorrad entre montañas y bosque. \n\n\n\nPor seguridad\, fechas y horarios están sujetos a condiciones climáticas. Confirma con tu asesor Motorrad. \n\n\nUso obligatorio de equipo de seguridad. \n\n\nGastos de hospedaje\, alimentación y combustible corren por cuenta de los participantes. \n\n\n 
URL:https://vecsaexperience.com/event/rodada-hotel-agua-morada/
CATEGORIES:Rodada
ATTACH;FMTTYPE=image/jpeg:https://vecsaexperience.com/wp-content/uploads/2026/03/Aguamorada.jpg
END:VEVENT
BEGIN:VEVENT
DTSTART;VALUE=DATE:20260319
DTEND;VALUE=DATE:20260320
DTSTAMP:20260421T162027
CREATED:20260311T174226Z
LAST-MODIFIED:20260311T174406Z
UID:59462-1773878400-1773964799@vecsaexperience.com
SUMMARY:RODADA EL CHALET\,  REAL DEL MONTE.
DESCRIPTION:Cuando cae la noche\, la sierra cambia de ritmo y el camino se disfruta de otra forma.Una salida pensada para quienes disfrutan las curvas\, el manejo preciso y la experiencia de rodar en grupo por carreteras de montaña. \nBMW Motorrad VECSA Hidalgo te invita a participar en la Rodada El Chalet\, Real del Monte\, una ruta nocturna que combina técnica\, carretera y un cierre en un entorno cálido y acogedor. \n📅 Jueves 19 de marzo🕡 Hora de salida: 6:30 PM📍 Punto de reunión: BMW Motorrad VECSA Hidalgo🛣️ Destino: Real del Monte\, Hidalgo⚙️ Dificultad: Media \nUna noche para concentrarte en la ruta\, compartir kilómetros y vivir el espíritu BMW Motorrad desde otra perspectiva. \n📞 Información: 771 795 4749 \n\n\nPor seguridad\, fechas y horarios están sujetos a condiciones climáticas favorables. Confirma con tu asesor Motorrad. \n\n\nUso obligatorio de equipo completo de seguridad. \n\n\nGastos de hospedaje\, alimentación y combustible corren por cuenta de los participantes. \n\n\n 
URL:https://vecsaexperience.com/event/rodada-el-chalet-real-del-monte/
CATEGORIES:Rodada
ATTACH;FMTTYPE=image/jpeg:https://vecsaexperience.com/wp-content/uploads/2026/02/RODADA-EL-CHALET-REAL-DEL-MONTE.jpg
END:VEVENT
BEGIN:VEVENT
DTSTART;VALUE=DATE:20260321
DTEND;VALUE=DATE:20260322
DTSTAMP:20260421T162027
CREATED:20260311T174240Z
LAST-MODIFIED:20260311T174240Z
UID:59523-1774051200-1774137599@vecsaexperience.com
SUMMARY:RODADA TEQUESQUITENGO  (SKY DIVE)
DESCRIPTION:Hay recorridos que se viven distinto cuando el día apenas comienza y la carretera se abre frente a nosotros. \nBMW Motorrad VECSA Hidalgo te invita a acompañarnos en la Rodada Tequesquitengo (Sky Dive)\, una experiencia de nivel avanzado pensada para quienes disfrutan las rutas largas\, el ritmo constante y la conexión que solo se logra al rodar en grupo. \nLa cita es el sábado 21 de marzo\, a las 6:30 a.m.\, con punto de reunión en BMW Motorrad VECSA Hidalgo\, desde donde iniciaremos esta travesía rumbo a Tequesquitengo\, con destino en Jojutla. \nUna ruta para disfrutar cada kilómetro desde el amanecer\, compartir la carretera y vivir el espíritu BMW Motorrad en uno de los destinos más emblemáticos del centro del país. \nUna mañana para sumar kilómetros\, fortalecer la camaradería y dejar que el camino marque el ritmo. \n\n\n\n\nPor seguridad\, fechas y horarios están sujetos a condiciones climáticas. Confirma con tu asesor Motorrad. \n\n\nUso obligatorio de equipo de seguridad. \n\n\nGastos de hospedaje\, alimentación y combustible corren por cuenta de los participantes. \n\n\n 
URL:https://vecsaexperience.com/event/rodada-tequesquitengo-sky-dive/
ATTACH;FMTTYPE=image/jpeg:https://vecsaexperience.com/wp-content/uploads/2026/03/tequesquitengo.jpg
END:VEVENT
BEGIN:VEVENT
DTSTART;TZID=America/Mexico_City:20260410T173000
DTEND;TZID=America/Mexico_City:20260410T200000
DTSTAMP:20260421T162027
CREATED:20260407T230213Z
LAST-MODIFIED:20260407T230213Z
UID:59602-1775842200-1775851200@vecsaexperience.com
SUMMARY:RIDE READY EXPERIENCE
DESCRIPTION:Descubre el equipo ideal para cada ruta \nAntes del camino… está la preparación. \nBMW Motorrad VECSA Hidalgo te invita a vivir la Ride Ready Experience\, una experiencia diseñada para que conozcas a fondo el equipamiento que hace la diferencia en cada recorrido. \nCada ruta exige algo más que una motocicleta: requiere confianza\, protección y el equipo correcto.\nPor eso\, durante esta experiencia podrás descubrir la línea de BMW Motorrad Rider Equipment & Garment\, interactuar con cada pieza\, conocer su tecnología y recibir asesoría personalizada de nuestros expertos. \nUna tarde pensada para vivir el universo Motorrad desde dentro\, en un ambiente exclusivo que conecta estilo\, seguridad y pasión por rodar. \n📅 Viernes 10 de abril\n🕠 Hora: 5:30 PM\n📍 BMW Motorrad VECSA Hidalgo \nAdemás\, podrás acceder a beneficios especiales en boutique\, disponibles únicamente durante el evento. \nPrepárate antes de salir a rodar…\ny equípate como cada ruta lo exige. \n📞 Confirma tu asistencia: 771 795 4749 \n 
URL:https://vecsaexperience.com/event/ride-ready-experience/
ATTACH;FMTTYPE=image/jpeg:https://vecsaexperience.com/wp-content/uploads/2026/04/RIDE-READY-EXPERIENCE.jpg
END:VEVENT
BEGIN:VEVENT
DTSTART;VALUE=DATE:20260412
DTEND;VALUE=DATE:20260413
DTSTAMP:20260421T162027
CREATED:20260407T230404Z
LAST-MODIFIED:20260407T230404Z
UID:59605-1775952000-1776038399@vecsaexperience.com
SUMMARY:RODADA A HONEY PUEBLA
DESCRIPTION:Cuando la sierra se vuelve más verde\, el camino se llena de curvas y la ruta te lleva hacia la naturaleza\, sabes que vas en la dirección correcta. \nEsta rodada está pensada para quienes disfrutan cada kilómetro\, el aire fresco de montaña y la experiencia de rodar en grupo hacia un destino rodeado de bosque y cascadas. \nBMW Motorrad VECSA Hidalgo te invita a acompañarnos en la Rodada Honey\, Puebla\, una experiencia de nivel medio que combina carretera escénica\, tramos de montaña y el espíritu adventure que define a la BMW R 1300 GS\, con destino a uno de los entornos naturales más impresionantes de la región. \n📍 Salida: BMW Motorrad VECSA Hidalgo\n🗓️ Fecha: Sábado 12 de abril\n⏰ Hora: 8:00 a.m.\n📌 Destino: Honey\, Puebla \nUna mañana para disfrutar la ruta\, conectar con el camino y vivir el espíritu BMW Motorrad entre montaña\, curvas y naturaleza. \n  \n-POR SEGURIDAD\, FECHAS Y HORARIOS SUJETOS A UN BUEN CLIMA CONFIRMA CON TU ASESOR MOTORRAD. \n-USO OBLIGATORIO DE EQUIPO DE SEGURIDAD. \n-GASTOS CORREN POR CUENTA DE LOS PARTICIPANTES. \n 
URL:https://vecsaexperience.com/event/rodada-a-honey-puebla/
ATTACH;FMTTYPE=image/jpeg:https://vecsaexperience.com/wp-content/uploads/2026/04/RODADA-A-HONEY-PUEBLA.jpg
END:VEVENT
BEGIN:VEVENT
DTSTART;VALUE=DATE:20260418
DTEND;VALUE=DATE:20260419
DTSTAMP:20260421T162027
CREATED:20260407T230630Z
LAST-MODIFIED:20260407T230746Z
UID:59608-1776470400-1776556799@vecsaexperience.com
SUMMARY:RODADA A CABAÑAS LOS PINARES
DESCRIPTION:  \nCuando la ruta no termina al caer el día\, es cuando comienza una experiencia distinta. \nEsta rodada está pensada para quienes buscan algo más que kilómetros: una conexión real con la montaña\, el entorno y la comunidad. \nBMW Motorrad VECSA Hidalgo te invita a formar parte de la Rodada a Cabañas Los Pinares\, Mineral del Chico\, una experiencia de nivel medio que combina curvas de montaña\, caminos escénicos y un entorno donde la naturaleza se vive también al anochecer. \n📍 Salida: BMW Motorrad VECSA Hidalgo\n🗓️ Fecha: Viernes 18 de abril\n⏰ Hora: 12:00 p.m.\n📌 Destino: Mineral del Chico\, Hidalgo\n🔁 Regreso: Sábado 19 de abril \nUna rodada que se transforma en experiencia: bosque\, carretera y una noche rodeados de tranquilidad\, donde cada momento suma a la conexión con el camino. \nPorque algunas rutas no se viven en un día…\nse viven en toda una experiencia. \n  \n-POR SEGURIDAD\, FECHAS Y HORARIOS SUJETOS A UN BUEN CLIMA CONFIRMA CON TU ASESOR MOTORRAD. \n-USO OBLIGATORIO DE EQUIPO DE SEGURIDAD. \n-GASTOS CORREN POR CUENTA DE LOS PARTICIPANTES. \n 
URL:https://vecsaexperience.com/event/rodada-a-canabas-los-pinares/
ATTACH;FMTTYPE=image/jpeg:https://vecsaexperience.com/wp-content/uploads/2026/04/RODADA-A-CANABAS-LOS-PINARES.jpg
END:VEVENT
BEGIN:VEVENT
DTSTART;TZID=America/Mexico_City:20260424T170000
DTEND;TZID=America/Mexico_City:20260424T200000
DTSTAMP:20260421T162027
CREATED:20260420T212633Z
LAST-MODIFIED:20260420T212633Z
UID:59622-1777050000-1777060800@vecsaexperience.com
SUMMARY:SOUL OF HERITAGE
DESCRIPTION:Hay quienes siguen tendencias… y quienes definen su propio estilo. \nBMW Motorrad VECSA Hidalgo presenta SOUL OF HERITAGE\, una experiencia diseñada para quienes encuentran en lo clásico una forma de expresión auténtica. Una noche donde el diseño\, la tradición y la actitud se unen para crear un ambiente único. \nEl próximo 24 de abril a las 5:00 PM\, te esperamos en BMW Motorrad VECSA Hidalgo para vivir un encuentro especial en el que la línea Heritage cobra vida a través de una atmósfera cuidadosamente curada\, música y detalles que evocan lo mejor del legado BMW con un enfoque contemporáneo. \nCódigo de vestimenta: elegante / clásico. \nPorque el verdadero estilo no se explica… se vive.
URL:https://vecsaexperience.com/event/soul-of-heritage/
ATTACH;FMTTYPE=image/jpeg:https://vecsaexperience.com/wp-content/uploads/2026/04/SOUL-OF-HERITAGE.jpg
END:VEVENT
BEGIN:VEVENT
DTSTART;VALUE=DATE:20260426
DTEND;VALUE=DATE:20260427
DTSTAMP:20260421T162027
CREATED:20260420T213603Z
LAST-MODIFIED:20260420T213807Z
UID:59626-1777161600-1777247999@vecsaexperience.com
SUMMARY:RODADA A HUICHAPAN
DESCRIPTION:El camino se disfruta más cuando el destino tiene historia. \nBMW Motorrad VECSA Hidalgo te invita a formar parte de una rodada hacia Huichapan\, Hidalgo\, un recorrido ideal para quienes buscan combinar la experiencia de manejo con la riqueza cultural de uno de los Pueblos Mágicos más emblemáticos del estado. \nEste próximo 26 de abril a las 8:30 AM\, partiremos desde BMW Motorrad VECSA Hidalgo en una ruta de dificultad media\, pensada para disfrutar cada kilómetro\, los paisajes del camino y la conexión que solo se vive al rodar en grupo. \nUn destino que destaca por su arquitectura\, tradición y esencia\, perfecto para una escapada diferente sobre dos ruedas. \nPunto de reunión: BMW Motorrad VECSA HidalgoDificultad: Media \nPorque cada ruta cuenta una historia… y esta vale la pena vivirla. 🏍️
URL:https://vecsaexperience.com/event/rodada-a-huichapan/
ATTACH;FMTTYPE=image/jpeg:https://vecsaexperience.com/wp-content/uploads/2026/04/HUICHAPAN.jpg
END:VEVENT
END:VCALENDAR