BEGIN:VCALENDAR
VERSION:2.0
PRODID:-//VECSA Experience - ECPv6.15.12.2//NONSGML v1.0//EN
CALSCALE:GREGORIAN
METHOD:PUBLISH
X-WR-CALNAME:VECSA Experience
X-ORIGINAL-URL:https://vecsaexperience.com
X-WR-CALDESC:Eventos para VECSA Experience
REFRESH-INTERVAL;VALUE=DURATION:PT1H
X-Robots-Tag:noindex
X-PUBLISHED-TTL:PT1H
BEGIN:VTIMEZONE
TZID:America/Mexico_City
BEGIN:STANDARD
TZOFFSETFROM:-0600
TZOFFSETTO:-0600
TZNAME:CST
DTSTART:20250101T000000
END:STANDARD
END:VTIMEZONE
BEGIN:VEVENT
DTSTART;VALUE=DATE:20260104
DTEND;VALUE=DATE:20260105
DTSTAMP:20260421T100852
CREATED:20251229T222959Z
LAST-MODIFIED:20251229T222959Z
UID:59061-1767484800-1767571199@vecsaexperience.com
SUMMARY:Rodada con Causa
DESCRIPTION:Rodar también puede transformar vidas.Te invitamos a ser parte de una Rodada con Causa\, una experiencia donde la pasión por las motocicletas se une con la solidaridad y el compromiso social. \nEl sábado 4 de enero\, nos reuniremos a las 8:00 a.m. en Soriana Plaza Q\, desde donde iniciaremos una ruta con destino a San Nicolás Atecoxco\, Metztitlán\, llevando algo más que kilómetros recorridos: esperanza y sonrisas. \nEsta rodada tiene como objetivo apoyar a los niños de la comunidad.Dona un juguete y acompáñanos a entregarlo personalmente\, haciendo de este recorrido una experiencia significativa y llena de propósito. \n📍 Puntos de acopio:BMW Motorrad VECSA Hidalgo \nTu apoyo hace la diferencia.Rodemos juntos\, compartamos el camino y hagamos de esta rodada un acto de generosidad sobre dos ruedas.
URL:https://vecsaexperience.com/event/rodada-con-causa/
CATEGORIES:Rodada
ATTACH;FMTTYPE=image/jpeg:https://vecsaexperience.com/wp-content/uploads/2025/12/Rodada-con-causa-.jpg
END:VEVENT
BEGIN:VEVENT
DTSTART;VALUE=DATE:20260111
DTEND;VALUE=DATE:20260112
DTSTAMP:20260421T100852
CREATED:20260106T160612Z
LAST-MODIFIED:20260106T225023Z
UID:59094-1768089600-1768175999@vecsaexperience.com
SUMMARY:HACIENDA CHIMALPA
DESCRIPTION:Cada rodada tiene su momento\, y esta es para disfrutarse sin prisas.Una experiencia que une el camino\, la convivencia y la pasión por rodar. \nBMW Motorrad VECSA Hidalgo te invita a ser parte de nuestra rodada con destino a Hacienda de Chimalpa\, una ruta pensada para compartir el trayecto en un ambiente relajado\, auténtico y lleno de camaradería. \nSerá un recorrido ideal para rodar en grupo\, disfrutar del entorno y vivir la experiencia BMW Motorrad como debe ser: sobre dos ruedas y en buena compañía. \n📅 Sábado 10 de enero \nHora de reunión: 11:00 am 📍 Destino: Hacienda de Chimalpa \nConfirma tu participación y prepárate para rodar con nosotros. \n\n\nPor seguridad\, fechas y horarios sujetos a un buen clima. Confirma con tu asesor Motorrad. \n\n\nUso obligatorio de equipo de seguridad. \n\n\nGastos de hospedaje\, alimentación y combustible corren por cuenta de los participantes.
URL:https://vecsaexperience.com/event/hacienda-chimalpa/
ATTACH;FMTTYPE=image/jpeg:https://vecsaexperience.com/wp-content/uploads/2026/01/Hacienda-Chimalpa.jpg
END:VEVENT
BEGIN:VEVENT
DTSTART;VALUE=DATE:20260118
DTEND;VALUE=DATE:20260119
DTSTAMP:20260421T100852
CREATED:20260119T192725Z
LAST-MODIFIED:20260119T192725Z
UID:59321-1768694400-1768780799@vecsaexperience.com
SUMMARY:MORE MILES: REAL DEL MONTE
DESCRIPTION:Este domingo 18 de Enero cambiamos la prisa por el paisaje.Una salida pensada para disfrutar la ruta\, convivir y vivir la motocicleta desde el lado más relajado del riding. \nBMW Motorrad VECSA Hidalgo te invita a rodar rumbo al Parque Sensorial de Real del Monte\, en una experiencia creada para quienes disfrutan rodar en grupo\, conectar con el entorno y transformar el domingo en un momento distinto sobre dos ruedas. \nPunto de Reunión: BMW MOTORRAD VECSA Hidalgo \nHora: 9:00am \nDificultad: Media \nUna rodada ideal para compartir camino\, sumar kilómetros y disfrutar cada curva sin prisas. \nConfirma tu participación y prepárate para rodar con nosotros.
URL:https://vecsaexperience.com/event/more-miles-real-del-monte/
ATTACH;FMTTYPE=image/jpeg:https://vecsaexperience.com/wp-content/uploads/2026/01/RealdelMonte.jpg
END:VEVENT
BEGIN:VEVENT
DTSTART;VALUE=DATE:20260125
DTEND;VALUE=DATE:20260126
DTSTAMP:20260421T100852
CREATED:20260119T193542Z
LAST-MODIFIED:20260119T193648Z
UID:59324-1769299200-1769385599@vecsaexperience.com
SUMMARY:RODADA AL AMANECER - TEPOZTLÁN
DESCRIPTION:El domingo comienza en la montaña.BMW Motorrad VECSA Hidalgo te invita a rodar rumbo a Tepoztlán en una salida temprana diseñada para dejar que el camino marque el ritmo. \nUna ruta pensada para disfrutar la carretera\, compartir el trayecto y arrancar el día con la mejor compañía.Entre curvas\, paisaje y el aire fresco de la sierra\, esta rodada es perfecta para quienes buscan transformar la mañana en una experiencia auténtica sobre dos ruedas. \n📅 Domingo 25 de enero🕢 Hora: 7:30 AM📍 Punto de reunión: BMW Motorrad VECSA Hidalgo🛣️ Ruta: Tepoztlán⚙️ Dificultad: Avanzada \nConfirma tu asistencia y acompáñanos en esta ruta al amanecer.Prepárate para rodar.
URL:https://vecsaexperience.com/event/rodada-al-amanecer-tepoztlan/
ATTACH;FMTTYPE=image/jpeg:https://vecsaexperience.com/wp-content/uploads/2026/01/TEPOZTLAN-RODADA-AL-AMANECER.jpg
END:VEVENT
END:VCALENDAR