BEGIN:VCALENDAR
VERSION:2.0
PRODID:-//VECSA Experience - ECPv6.15.12.2//NONSGML v1.0//EN
CALSCALE:GREGORIAN
METHOD:PUBLISH
X-WR-CALNAME:VECSA Experience
X-ORIGINAL-URL:https://vecsaexperience.com
X-WR-CALDESC:Eventos para VECSA Experience
REFRESH-INTERVAL;VALUE=DURATION:PT1H
X-Robots-Tag:noindex
X-PUBLISHED-TTL:PT1H
BEGIN:VTIMEZONE
TZID:America/Mexico_City
BEGIN:STANDARD
TZOFFSETFROM:-0600
TZOFFSETTO:-0600
TZNAME:CST
DTSTART:20250101T000000
END:STANDARD
END:VTIMEZONE
BEGIN:VEVENT
DTSTART;VALUE=DATE:20260207
DTEND;VALUE=DATE:20260209
DTSTAMP:20260421T083309
CREATED:20260122T230636Z
LAST-MODIFIED:20260130T221010Z
UID:59328-1770422400-1770595199@vecsaexperience.com
SUMMARY:SIERRAS POBLANAS 2026
DESCRIPTION:La tierra llama. La experiencia responde. \nBMW Motorrad VECSA Hidalgo se suma al Campeonato de Enduro Sierras Poblanas 2026 con una experiencia creada para riders que buscan técnica\, control y auténtico dominio del off-road. \nLa Enduro Experience BMW se vivirá este 7 y 8 de febrero\, en un recorrido exigente de nivel avanzado\, rodeado de los paisajes naturales de Huasca de Ocampo\, Hidalgo. \nSerá un fin de semana de polvo\, montaña y adrenalina pura\, donde cada tramo pondrá a prueba tu habilidad\, resistencia y pasión por la conducción extrema. \n📍 Punto de reunión: BMW Motorrad VECSA Hidalgo⚙️ Dificultad: Avanzada🏁 Destino: Huasca de Ocampo\, Hidalgo \nAsegura tu lugar y prepárate para rodar con el equipo completo y tu motocicleta en óptimas condiciones. \nConfirma tu asistencia al 771 795 4749 \nNo es solo una ruta.Es dominio\, resistencia y pasión por el off-road. \n\n\nPor seguridad\, fechas y horarios sujetos a un buen clima. Confirma con tu asesor Motorrad. \n\n\nUso obligatorio de equipo de seguridad. \n\n\nGastos de hospedaje\, alimentación y combustible corren por cuenta de los participantes. \n\n\n \n 
URL:https://vecsaexperience.com/event/sierras-poblanas-2026/
ATTACH;FMTTYPE=image/jpeg:https://vecsaexperience.com/wp-content/uploads/2026/01/Sierras-Poblanasjpg.jpg
END:VEVENT
BEGIN:VEVENT
DTSTART;TZID=America/Mexico_City:20260214T083000
DTEND;TZID=America/Mexico_City:20260214T140000
DTSTAMP:20260421T083309
CREATED:20260122T231409Z
LAST-MODIFIED:20260130T221441Z
UID:59331-1771057800-1771077600@vecsaexperience.com
SUMMARY:CLÍNICA OFF-ROAD
DESCRIPTION:Hay experiencias que se disfrutan más cuando se baja el ritmo y se afina la técnica.Esta Clínica Off-Road está diseñada para mejorar el control\, la postura y la confianza sobre terrenos de tierra\, en un entorno guiado y seguro. \nBMW Motorrad VECSA Hidalgo te invita a participar en una jornada dedicada al aprendizaje y perfeccionamiento del manejo off-road\, ideal para riders que buscan desarrollar habilidades clave fuera del asfalto. \nDificultad: Media \nLa cita es el sábado 14 de febrero\, a las 8:30 AM\, con punto de reunión en BMW Motorrad VECSA Hidalgo\, donde iniciaremos una sesión práctica de nivel intermedio a avanzado\, enfocada en técnica\, equilibrio y dominio de la motocicleta. \nUn espacio para entrenar\, aprender y conectar con el verdadero espíritu off-road de BMW Motorrad. \nConfirma tu participación y prepárate para llevar tu conducción al siguiente nivel. \n\n\nPor seguridad\, fechas y horarios sujetos a un buen clima. Confirma con tu asesor Motorrad. \n\n\nUso obligatorio de equipo de seguridad. \n\n\nGastos de hospedaje\, alimentación y combustible corren por cuenta de los participantes \n\n\n \n 
URL:https://vecsaexperience.com/event/clinica-off-road/
ATTACH;FMTTYPE=image/jpeg:https://vecsaexperience.com/wp-content/uploads/2026/01/CLINICA-OFF-ROAD.jpg
END:VEVENT
BEGIN:VEVENT
DTSTART;VALUE=DATE:20260219
DTEND;VALUE=DATE:20260220
DTSTAMP:20260421T083309
CREATED:20260122T232038Z
LAST-MODIFIED:20260130T221714Z
UID:59335-1771459200-1771545599@vecsaexperience.com
SUMMARY:RODADA LUNA NUEVA HUASCA
DESCRIPTION:Hay recorridos que se viven diferente cuando cae la noche y el camino se ilumina solo con faros y luna.Una salida pensada para rodar con calma\, disfrutar el silencio de la carretera y dejar que la noche marque el ritmo. \nBMW Motorrad VECSA Hidalgo te invita a ser parte de la Rodada Luna Nueva Huasca\, una experiencia nocturna creada para rodar en grupo\, conectar con la ruta y disfrutar cada kilómetro bajo el cielo abierto. \nLa cita es el domingo 19 de febrero\, a las 6:30 PM\, con punto de reunión en BMW Motorrad VECSA Hidalgo\, desde donde iniciaremos una ruta de nivel avanzado rumbo a Huasca de Ocampo\, Hidalgo. \n⚙️ Dificultad: Avanzada \nUna noche para compartir camino\, sumar experiencias y vivir el espíritu BMW Motorrad de una forma distinta. \n\n\nPor seguridad\, fechas y horarios sujetos a un buen clima. Confirma con tu asesor Motorrad. \n\n\nUso obligatorio de equipo de seguridad. \n\n\nGastos de hospedaje\, alimentación y combustible corren por cuenta de los participantes.
URL:https://vecsaexperience.com/event/rodada-luna-nueva-huasca/
ATTACH;FMTTYPE=image/jpeg:https://vecsaexperience.com/wp-content/uploads/2026/01/Rodada-Luna-Nueva-Huasca.jpg
END:VEVENT
BEGIN:VEVENT
DTSTART;VALUE=DATE:20260221
DTEND;VALUE=DATE:20260222
DTSTAMP:20260421T083309
CREATED:20260129T221933Z
LAST-MODIFIED:20260130T222016Z
UID:59368-1771632000-1771718399@vecsaexperience.com
SUMMARY:Rodada Pinal de Amoles\,  Querétaro.
DESCRIPTION:Hay rutas que se disfrutan más cuando la carretera se abre paso entre la sierra y cada curva invita a seguir rodando.Una rodada pensada para disfrutar el camino\, mantener un ritmo constante y vivir la conexión que solo se da cuando se rueda en grupo. \nBMW Motorrad VECSA Hidalgo te invita a acompañarnos en la Rodada Pinal de Amoles\, Querétaro\, una experiencia para recorrer carreteras de montaña\, rodar con calma y apreciar cada tramo del paisaje. \nLa cita es el  21 de febrero\, a las 8:30 a.m.\, con punto de encuentro en BMW Motorrad VECSA Hidalgo\, desde donde iniciaremos una ruta de nivel avanzado rumbo a Pinal de Amoles\, Querétaro. \n⚙️ Dificultad: Avanzada \nUn día para sumar kilómetros\, compartir la ruta y vivir el espíritu BMW Motorrad en cada curva.Nos vemos en el camino. 🏍️⛰️
URL:https://vecsaexperience.com/event/rodada-pinal-de-amoles-queretaro/
CATEGORIES:Rodada
ATTACH;FMTTYPE=image/jpeg:https://vecsaexperience.com/wp-content/uploads/2026/01/Queretaro.jpg
END:VEVENT
END:VCALENDAR