BEGIN:VCALENDAR
VERSION:2.0
PRODID:-//VECSA Experience - ECPv6.15.12.2//NONSGML v1.0//EN
CALSCALE:GREGORIAN
METHOD:PUBLISH
X-WR-CALNAME:VECSA Experience
X-ORIGINAL-URL:https://vecsaexperience.com
X-WR-CALDESC:Eventos para VECSA Experience
REFRESH-INTERVAL;VALUE=DURATION:PT1H
X-Robots-Tag:noindex
X-PUBLISHED-TTL:PT1H
BEGIN:VTIMEZONE
TZID:America/Mexico_City
BEGIN:STANDARD
TZOFFSETFROM:-0600
TZOFFSETTO:-0600
TZNAME:CST
DTSTART:20250101T000000
END:STANDARD
END:VTIMEZONE
BEGIN:VEVENT
DTSTART;TZID=America/Mexico_City:20260424T170000
DTEND;TZID=America/Mexico_City:20260424T200000
DTSTAMP:20260421T052910
CREATED:20260420T212633Z
LAST-MODIFIED:20260420T212633Z
UID:59622-1777050000-1777060800@vecsaexperience.com
SUMMARY:SOUL OF HERITAGE
DESCRIPTION:Hay quienes siguen tendencias… y quienes definen su propio estilo. \nBMW Motorrad VECSA Hidalgo presenta SOUL OF HERITAGE\, una experiencia diseñada para quienes encuentran en lo clásico una forma de expresión auténtica. Una noche donde el diseño\, la tradición y la actitud se unen para crear un ambiente único. \nEl próximo 24 de abril a las 5:00 PM\, te esperamos en BMW Motorrad VECSA Hidalgo para vivir un encuentro especial en el que la línea Heritage cobra vida a través de una atmósfera cuidadosamente curada\, música y detalles que evocan lo mejor del legado BMW con un enfoque contemporáneo. \nCódigo de vestimenta: elegante / clásico. \nPorque el verdadero estilo no se explica… se vive.
URL:https://vecsaexperience.com/event/soul-of-heritage/
ATTACH;FMTTYPE=image/jpeg:https://vecsaexperience.com/wp-content/uploads/2026/04/SOUL-OF-HERITAGE.jpg
END:VEVENT
BEGIN:VEVENT
DTSTART;VALUE=DATE:20260426
DTEND;VALUE=DATE:20260427
DTSTAMP:20260421T052910
CREATED:20260420T213603Z
LAST-MODIFIED:20260420T213807Z
UID:59626-1777161600-1777247999@vecsaexperience.com
SUMMARY:RODADA A HUICHAPAN
DESCRIPTION:El camino se disfruta más cuando el destino tiene historia. \nBMW Motorrad VECSA Hidalgo te invita a formar parte de una rodada hacia Huichapan\, Hidalgo\, un recorrido ideal para quienes buscan combinar la experiencia de manejo con la riqueza cultural de uno de los Pueblos Mágicos más emblemáticos del estado. \nEste próximo 26 de abril a las 8:30 AM\, partiremos desde BMW Motorrad VECSA Hidalgo en una ruta de dificultad media\, pensada para disfrutar cada kilómetro\, los paisajes del camino y la conexión que solo se vive al rodar en grupo. \nUn destino que destaca por su arquitectura\, tradición y esencia\, perfecto para una escapada diferente sobre dos ruedas. \nPunto de reunión: BMW Motorrad VECSA HidalgoDificultad: Media \nPorque cada ruta cuenta una historia… y esta vale la pena vivirla. 🏍️
URL:https://vecsaexperience.com/event/rodada-a-huichapan/
ATTACH;FMTTYPE=image/jpeg:https://vecsaexperience.com/wp-content/uploads/2026/04/HUICHAPAN.jpg
END:VEVENT
END:VCALENDAR